BEGIN:VCALENDAR
VERSION:2.0
PRODID:-//Tukios.com/
BEGIN:VEVENT
UID:124c58f3-e4a5-4948-ab8d-d8ac4ce6bc97@www.giovefuneralhome.com
DTSTAMP:20260421T183255Z
DTSTART:20260423
SUMMARY:Burial
DESCRIPTION:Leaving Funeral Home 10 am
URL:https://www.giovefuneralhome.com/obituaries/jane-zarini
LOCATION: 2040 Wellwood Avenue  Farmingdale NY 11735
GEO:40.7528675;-73.4019655
END:VEVENT
END:VCALENDAR