BEGIN:VCALENDAR
VERSION:2.0
PRODID:-//Tukios.com/
BEGIN:VEVENT
UID:f168c1d7-81e0-4006-8f78-99826d8303ab@www.giovefuneralhome.com
DTSTAMP:20260420T235246Z
DTSTART:20260424T190000Z
DTEND:20260424T200000Z
SUMMARY:Prayer Service
DESCRIPTION:
URL:https://www.giovefuneralhome.com/obituaries/jamie-ferreira
LOCATION: 1000 Middle Country Rd  Selden NY 11784
GEO:40.8633207;-73.0487039
END:VEVENT
END:VCALENDAR