BEGIN:VCALENDAR
VERSION:2.0
PRODID:-//Tukios.com/
BEGIN:VEVENT
UID:f2a3f3cd-1e56-4185-bde1-d49d74d13504@www.giovefuneralhome.com
DTSTAMP:20260420T235226Z
DTSTART:20260424T180000Z
DTEND:20260424T200000Z
SUMMARY:Memorial Gathering
DESCRIPTION:
URL:https://www.giovefuneralhome.com/obituaries/jamie-ferreira
LOCATION: 1000 Middle Country Rd  Selden NY 11784
GEO:40.8633207;-73.0487039
END:VEVENT
END:VCALENDAR