BEGIN:VCALENDAR
VERSION:2.0
PRODID:-//Tukios.com/
BEGIN:VEVENT
UID:e828f244-8f81-40eb-be50-d18b7fdb10c2@www.giovefuneralhome.com
DTSTAMP:20260423T210221Z
DTSTART:20260429T000000Z
DTEND:20260429T010000Z
SUMMARY:Prayer Service
DESCRIPTION:
URL:https://www.giovefuneralhome.com/obituaries/elizabeth-rotella
LOCATION: 1000 Middle Country Rd  Selden NY 11784
GEO:40.8633207;-73.0487039
END:VEVENT
END:VCALENDAR