BEGIN:VCALENDAR
VERSION:2.0
PRODID:-//Tukios.com/
BEGIN:VEVENT
UID:74c288f4-dc72-472f-b3ff-227f226c7abc@www.giovefuneralhome.com
DTSTAMP:20260423T210713Z
DTSTART:20260428T230000Z
DTEND:20260429T010000Z
SUMMARY:Visitation
DESCRIPTION:
URL:https://www.giovefuneralhome.com/obituaries/elizabeth-rotella
LOCATION: 1000 Middle Country Rd  Selden NY 11784
GEO:40.8633207;-73.0487039
END:VEVENT
END:VCALENDAR