BEGIN:VCALENDAR
VERSION:2.0
PRODID:-//Tukios.com/
BEGIN:VEVENT
UID:22ac54a9-c46d-4d0c-8e4a-e5cad19c8034@www.giovefuneralhome.com
DTSTAMP:20260423T210707Z
DTSTART:20260428T180000Z
DTEND:20260428T200000Z
SUMMARY:Visitation
DESCRIPTION:
URL:https://www.giovefuneralhome.com/obituaries/elizabeth-rotella
LOCATION: 1000 Middle Country Rd  Selden NY 11784
GEO:40.8633207;-73.0487039
END:VEVENT
END:VCALENDAR